BEGIN:VCALENDAR
VERSION:2.0
PRODID:-//Home Counties Division - ECPv6.15.20//NONSGML v1.0//EN
CALSCALE:GREGORIAN
METHOD:PUBLISH
X-WR-CALNAME:Home Counties Division
X-ORIGINAL-URL:https://homecountiesdivisioncamc.co.uk
X-WR-CALDESC:Events for Home Counties Division
REFRESH-INTERVAL;VALUE=DURATION:PT1H
X-Robots-Tag:noindex
X-PUBLISHED-TTL:PT1H
BEGIN:VTIMEZONE
TZID:Europe/London
BEGIN:DAYLIGHT
TZOFFSETFROM:+0000
TZOFFSETTO:+0100
TZNAME:BST
DTSTART:20250330T010000
END:DAYLIGHT
BEGIN:STANDARD
TZOFFSETFROM:+0100
TZOFFSETTO:+0000
TZNAME:GMT
DTSTART:20251026T010000
END:STANDARD
BEGIN:DAYLIGHT
TZOFFSETFROM:+0000
TZOFFSETTO:+0100
TZNAME:BST
DTSTART:20260329T010000
END:DAYLIGHT
BEGIN:STANDARD
TZOFFSETFROM:+0100
TZOFFSETTO:+0000
TZNAME:GMT
DTSTART:20261025T010000
END:STANDARD
BEGIN:DAYLIGHT
TZOFFSETFROM:+0000
TZOFFSETTO:+0100
TZNAME:BST
DTSTART:20270328T010000
END:DAYLIGHT
BEGIN:STANDARD
TZOFFSETFROM:+0100
TZOFFSETTO:+0000
TZNAME:GMT
DTSTART:20271031T010000
END:STANDARD
BEGIN:DAYLIGHT
TZOFFSETFROM:+0000
TZOFFSETTO:+0100
TZNAME:BST
DTSTART:20280326T010000
END:DAYLIGHT
BEGIN:STANDARD
TZOFFSETFROM:+0100
TZOFFSETTO:+0000
TZNAME:GMT
DTSTART:20281029T010000
END:STANDARD
END:VTIMEZONE
BEGIN:VEVENT
DTSTART;VALUE=DATE:20261105
DTEND;VALUE=DATE:20261109
DTSTAMP:20260421T225848
CREATED:20250709T205052Z
LAST-MODIFIED:20260211T095446Z
UID:6779-1793836800-1794182399@homecountiesdivisioncamc.co.uk
SUMMARY:Bonfire Spectacular
DESCRIPTION:Hemingford Grey\, Hemingford Road\, Hemmingford Grey\, St Ives\, Cambs\, PE27 5HD \nThursday: Rally opens from 12:00 noon.\nFriday: Evening meet and greet with soup & rolls (weather permitting).\nSaturday: Free & Easy. Evening – Large bonfire & firework display. Funfair\, side stalls\, food & drink outlets organised by the fireworks committee.\nSunday: Rally closes at 14:00
URL:https://homecountiesdivisioncamc.co.uk/event/bonfire-spectacular/
LOCATION:Hemingford Grey\, St Ives\, PE27 5ER\, United Kingdom
CATEGORIES:Weekend,Weekend plus
ATTACH;FMTTYPE=image/webp:https://homecountiesdivisioncamc.co.uk/wp-content/uploads/2025/07/bonfire-rally-e1753304296954.webp
END:VEVENT
BEGIN:VEVENT
DTSTART;VALUE=DATE:20261106
DTEND;VALUE=DATE:20261109
DTSTAMP:20260421T225848
CREATED:20260211T095830Z
LAST-MODIFIED:20260211T095830Z
UID:8151-1793923200-1794182399@homecountiesdivisioncamc.co.uk
SUMMARY:No Fireworks
DESCRIPTION:Home Farm\, Cople Road\, Cardington\, Beds. MK44 3SN \n\n\n\n\nCome and have a relaxing weekend with no fireworks. \n\n\n\n\n 
URL:https://homecountiesdivisioncamc.co.uk/event/no-fireworks/
LOCATION:Home Farm\, Cardington\, MK44 3SN\, United Kingdom
CATEGORIES:Weekend
ATTACH;FMTTYPE=image/webp:https://homecountiesdivisioncamc.co.uk/wp-content/uploads/2025/07/home-farm-Cardington-e1753304282940.webp
END:VEVENT
BEGIN:VEVENT
DTSTART;VALUE=DATE:20261106
DTEND;VALUE=DATE:20261109
DTSTAMP:20260421T225848
CREATED:20260213T165706Z
LAST-MODIFIED:20260213T165706Z
UID:8399-1793923200-1794182399@homecountiesdivisioncamc.co.uk
SUMMARY:Lest We Forget
DESCRIPTION:Army Flying Museum\, Kentsboro\, Stockbridge SO20 8FB \nLocality: Middle Wallop is south of Andover on the A343 Andover to Salisbury road. There is shopping in Andover and Salisbury. The Hawk Conservancy at Weyhill and Stonehenge are a short drive away. The museum is right next door to a busy working airfield and has over 35 historic aircraft on display plus rifle ranges\, a shop and a cafe. Visit the website at https://www.armyflying.com/. \nWhat is On?\nFriday Arrive\, settle in\, and take time to reflect on those who gave their lives for our freedom.\nSaturday Visit the museum and explore the remarkable items on display. VE Day Street Party: your VE Day themed meal will be served in a hall within the museum.\nSunday Morning Flag – we will lay a wreath at the Middle Wallop Flying Memorial.\nWe look forward to sharing this meaningful and reflective weekend with you
URL:https://homecountiesdivisioncamc.co.uk/event/lest-we-forget/
LOCATION:Army Flying Museum\, Stockbridge\, Army Flying Museum\, Kentsboro\, Stockbridge SO20 8FB\, United Kingdom
CATEGORIES:Weekend
ATTACH;FMTTYPE=image/webp:https://homecountiesdivisioncamc.co.uk/wp-content/uploads/2026/02/middle-wallop.webp
END:VEVENT
BEGIN:VEVENT
DTSTART;VALUE=DATE:20261113
DTEND;VALUE=DATE:20261116
DTSTAMP:20260421T225848
CREATED:20250710T165835Z
LAST-MODIFIED:20260212T191749Z
UID:6867-1794528000-1794787199@homecountiesdivisioncamc.co.uk
SUMMARY:Children in Need - Charity Rally
DESCRIPTION:Home Farm\, Cardington\, MK44 3SN \nJoin us for this worthwhile rally\, lots of fun and games in the Village hall both nights.\nDon’t forget to save up your pennies and pounds.
URL:https://homecountiesdivisioncamc.co.uk/event/children-in-need-2025/
LOCATION:Home Farm\, Cardington\, MK44 3SN\, United Kingdom
CATEGORIES:Weekend
ATTACH;FMTTYPE=image/webp:https://homecountiesdivisioncamc.co.uk/wp-content/uploads/2025/07/children-in-need-e1753303842802.webp
END:VEVENT
BEGIN:VEVENT
DTSTART;VALUE=DATE:20261113
DTEND;VALUE=DATE:20261116
DTSTAMP:20260421T225848
CREATED:20250710T170711Z
LAST-MODIFIED:20260212T192121Z
UID:6870-1794528000-1794787199@homecountiesdivisioncamc.co.uk
SUMMARY:Christmas Party
DESCRIPTION:Derwent Lower School\, Henlow\, SG16 6BA \nParty time \nFriday night we have festive food\, fun and laughter. Christmas carol singalong.\nSaturday evening\, we have professional live entertainment from the Silhouettes to enjoy.\nPrizes for the best decorated Christmas table.\nBring your Christmas cards to be delivered by Santa over the weekend (only people on the rally please) or donate towards the centre’s charity.
URL:https://homecountiesdivisioncamc.co.uk/event/christmas-party-2/
LOCATION:Derwent Lower School\, Henlow\,\, SG16 6BA\, United Kingdom
CATEGORIES:Weekend
ATTACH;FMTTYPE=image/webp:https://homecountiesdivisioncamc.co.uk/wp-content/uploads/2025/07/christmas-party-herts-e1753303828829.webp
END:VEVENT
BEGIN:VEVENT
DTSTART;VALUE=DATE:20261120
DTEND;VALUE=DATE:20261123
DTSTAMP:20260421T225848
CREATED:20250710T103755Z
LAST-MODIFIED:20260211T100104Z
UID:7300-1795132800-1795391999@homecountiesdivisioncamc.co.uk
SUMMARY:Panto Rally\, Ashwell
DESCRIPTION:Ashridge Farm\, Ashwell\, Baldock\, Herts\, SG7 5QF \nCome and join us for a relaxing weekend in Hertfordshire. \nVisit to a pantomime at Gordon Craig theatre being arranged.
URL:https://homecountiesdivisioncamc.co.uk/event/ashridge-farm-club-campsite/
LOCATION:Ashridge Farm\, Baldock\,\, SG7 5QF
CATEGORIES:Weekend
ATTACH;FMTTYPE=image/webp:https://homecountiesdivisioncamc.co.uk/wp-content/uploads/2025/07/ashridge-farm.webp
END:VEVENT
BEGIN:VEVENT
DTSTART;VALUE=DATE:20261120
DTEND;VALUE=DATE:20261123
DTSTAMP:20260421T225848
CREATED:20250710T134237Z
LAST-MODIFIED:20260211T182643Z
UID:6814-1795132800-1795391999@homecountiesdivisioncamc.co.uk
SUMMARY:Happy Grinchmas 2026
DESCRIPTION:Oxhey Wood Primary School\, Oxhey Dr\, Watford WD19 7SL \nChristmas fun filled weekend.
URL:https://homecountiesdivisioncamc.co.uk/event/turkey-and-tinsel/
LOCATION:Oxhey Wood Primary School\, Watford\, WD19 7SL\, United Kingdom
CATEGORIES:Weekend
ATTACH;FMTTYPE=image/webp:https://homecountiesdivisioncamc.co.uk/wp-content/uploads/2025/07/christmas-party-nlondon-e1753303761684.webp
END:VEVENT
BEGIN:VEVENT
DTSTART;VALUE=DATE:20261127
DTEND;VALUE=DATE:20261130
DTSTAMP:20260421T225848
CREATED:20250709T171138Z
LAST-MODIFIED:20260213T165906Z
UID:7296-1795737600-1795996799@homecountiesdivisioncamc.co.uk
SUMMARY:Christmas Party
DESCRIPTION:Dinton Village Hall\, Dinton\, SP3 5EB \nFacilities: HARD-STANDING \nLocality: Dinton is a village 5.5 miles west of Wilton and about 8 miles west of Salisbury. The Wyndham Arms pub is within walking distance of the village hall. \nWhat is On? Friday evening social with mulled wine and mince pies.\nSaturday – a traditional three course Christmas dinner in the evening.\nSunday coffee and flag. \nTake the opportunity to visit local attractions\, including Salisbury Christmas Market\, open every day.\nWatch this space for more details as they become available.
URL:https://homecountiesdivisioncamc.co.uk/event/christmas-party/
LOCATION:Dinton Village Hall\, Dinton\, SP3 5EB\, United Kingdom
CATEGORIES:Weekend
ATTACH;FMTTYPE=image/webp:https://homecountiesdivisioncamc.co.uk/wp-content/uploads/2025/07/christmas-party-e1753303640728.webp
END:VEVENT
BEGIN:VEVENT
DTSTART;VALUE=DATE:20261127
DTEND;VALUE=DATE:20261130
DTSTAMP:20260421T225848
CREATED:20250710T123901Z
LAST-MODIFIED:20260211T180335Z
UID:6796-1795737600-1795996799@homecountiesdivisioncamc.co.uk
SUMMARY:Social Evenings Barnstones
DESCRIPTION:Barnstones Camping and Caravan Site\, Great Bourton\, OX17 1QU \nSanta comes to Barnstones. \nCelebrate Christmas with us in the countryside.\nWelcome meet in the village all Friday evening.\nSaturday evening social again the the village hall.  There will be Christmas festivities and music.\nA supper is planned details and cost to follow.\nBanbury is a short drive from the site good for shopping and places of interest to visit.
URL:https://homecountiesdivisioncamc.co.uk/event/upper-thames-centre-centre-agm/
LOCATION:Barnstones Camping and Caravan Site\, Great Bourton\, OX17 1QU\, United Kingdom
CATEGORIES:Weekend
ATTACH;FMTTYPE=image/webp:https://homecountiesdivisioncamc.co.uk/wp-content/uploads/2025/07/barnstones.webp
END:VEVENT
BEGIN:VEVENT
DTSTART;VALUE=DATE:20261204
DTEND;VALUE=DATE:20261207
DTSTAMP:20260421T225848
CREATED:20250710T105346Z
LAST-MODIFIED:20260211T100309Z
UID:6782-1796342400-1796601599@homecountiesdivisioncamc.co.uk
SUMMARY:Christmas Party Rally
DESCRIPTION:Derwent Lower School\, Hitchin Road\, Henlow\, Beds\, SG16 6BA \nCome and join in the festive fun\, the Bedfordshire way.  Weekend of entertainment for both children and adults. \nMay be a visit from a special guy.
URL:https://homecountiesdivisioncamc.co.uk/event/christmas-party-rally/
LOCATION:Derwent Lower School\, Henlow\,\, SG16 6BA\, United Kingdom
CATEGORIES:Weekend
ATTACH;FMTTYPE=image/webp:https://homecountiesdivisioncamc.co.uk/wp-content/uploads/2025/07/christmas-party-beds-e1753304246954.webp
END:VEVENT
BEGIN:VEVENT
DTSTART;VALUE=DATE:20261229
DTEND;VALUE=DATE:20270103
DTSTAMP:20260421T225848
CREATED:20250710T171727Z
LAST-MODIFIED:20260212T192352Z
UID:6874-1798502400-1798934399@homecountiesdivisioncamc.co.uk
SUMMARY:New Year Rally
DESCRIPTION:Alameda Middle School\, Ampthill\, MK45 2QR \nWe have big plans for the coming New Year Rally.\nThree nights of professional entertainment for you to enjoy\nSee Herts website for updates.
URL:https://homecountiesdivisioncamc.co.uk/event/new-year-rally/
LOCATION:Alameda Middle School\, Ampthill\, MK45 2QR\, United Kingdom
CATEGORIES:Weekend,Weekend plus
ATTACH;FMTTYPE=image/webp:https://homecountiesdivisioncamc.co.uk/wp-content/uploads/2025/07/new-year-herts-e1753303813159.webp
END:VEVENT
END:VCALENDAR