BEGIN:VCALENDAR
VERSION:2.0
PRODID:-//Home Counties Division - ECPv6.15.20//NONSGML v1.0//EN
CALSCALE:GREGORIAN
METHOD:PUBLISH
X-ORIGINAL-URL:https://homecountiesdivisioncamc.co.uk
X-WR-CALDESC:Events for Home Counties Division
REFRESH-INTERVAL;VALUE=DURATION:PT1H
X-Robots-Tag:noindex
X-PUBLISHED-TTL:PT1H
BEGIN:VTIMEZONE
TZID:Europe/London
BEGIN:DAYLIGHT
TZOFFSETFROM:+0000
TZOFFSETTO:+0100
TZNAME:BST
DTSTART:20250330T010000
END:DAYLIGHT
BEGIN:STANDARD
TZOFFSETFROM:+0100
TZOFFSETTO:+0000
TZNAME:GMT
DTSTART:20251026T010000
END:STANDARD
BEGIN:DAYLIGHT
TZOFFSETFROM:+0000
TZOFFSETTO:+0100
TZNAME:BST
DTSTART:20260329T010000
END:DAYLIGHT
BEGIN:STANDARD
TZOFFSETFROM:+0100
TZOFFSETTO:+0000
TZNAME:GMT
DTSTART:20261025T010000
END:STANDARD
BEGIN:DAYLIGHT
TZOFFSETFROM:+0000
TZOFFSETTO:+0100
TZNAME:BST
DTSTART:20270328T010000
END:DAYLIGHT
BEGIN:STANDARD
TZOFFSETFROM:+0100
TZOFFSETTO:+0000
TZNAME:GMT
DTSTART:20271031T010000
END:STANDARD
END:VTIMEZONE
BEGIN:VEVENT
DTSTART;VALUE=DATE:20260424
DTEND;VALUE=DATE:20260427
DTSTAMP:20260421T121451
CREATED:20260210T160609Z
LAST-MODIFIED:20260210T160609Z
UID:8057-1776988800-1777247999@homecountiesdivisioncamc.co.uk
SUMMARY:Comberton
DESCRIPTION:Highfield Farm Touring Park\, Long Road\, Comberton\, Cambs. CB23 7DG \nIdeally located for shopping in Cambridge\, Maddngley Park and Ride is only a short drive away or for motorhomes Trumpington Park and Ride is located off the M11. \nIf shopping isn’t your ‘thing’ there’s Fitzwilliam Museum\, The University Botanical Gardens\, Wimpole Hall (National Trust)\, Linton Zoo\, Duxford all nearby. \nRally will open at 2.30pm.\nElectric Hook-up available at extra cost.
URL:https://homecountiesdivisioncamc.co.uk/event/comberton/
LOCATION:Highfield Caravan Park\, Comberton\, CB23 7DG\, United Kingdom
CATEGORIES:Weekend
ATTACH;FMTTYPE=image/webp:https://homecountiesdivisioncamc.co.uk/wp-content/uploads/2025/07/highfield-farm-e1753304400591.webp
END:VEVENT
BEGIN:VEVENT
DTSTART;VALUE=DATE:20260424
DTEND;VALUE=DATE:20260427
DTSTAMP:20260421T121451
CREATED:20260212T205728Z
LAST-MODIFIED:20260212T205728Z
UID:8336-1776988800-1777247999@homecountiesdivisioncamc.co.uk
SUMMARY:Let's Celebrate
DESCRIPTION:Swiss Farm Rally Field\, Swiss Farm Park Homes\, Marlow Rd\, Henley-on-Thames RG9 2HX \nLocality: The rally field is adjacent to the Swiss Farm caravan site and is at the foot of the Chiltern Hills. Henley town centre is a few minutes walk away from the rally field\, with its shops and restaurants. There is a Waitrose and a Sainsburys Local in the town and Tesco is just outside of the town approx. 2 miles away. There is also a Wetherspoons in the town\, The Catherine Wheel. \nWhat is On? Come and join us for a relaxing weekend in Henley celebrating Mark’s birthday and Mark & Lorraine’s wedding anniversary. \nFriday Evening – from 19:00 Drinks & Nibbles. We’ll provide the nibbles – you bring your favourite drinks. A great chance to unwind and start the weekend together.\nSaturday Evening Buffet-Style Social. Join the Rally Officers for a relaxed evening of fun\, laughter\, and games. Please bring your drink\, plates and cutlery.\nSunday Morning Flagpole at 11:00am
URL:https://homecountiesdivisioncamc.co.uk/event/lets-celebrate/
LOCATION:Swiss Farm Rally Field\, Henley-on-Thames\, RG9 2HX\, United Kingdom
CATEGORIES:Weekend
ATTACH;FMTTYPE=image/webp:https://homecountiesdivisioncamc.co.uk/wp-content/uploads/2026/02/swiss-farm-berks.webp
END:VEVENT
END:VCALENDAR