BEGIN:VCALENDAR
VERSION:2.0
PRODID:-//Home Counties Division - ECPv6.15.20//NONSGML v1.0//EN
CALSCALE:GREGORIAN
METHOD:PUBLISH
X-WR-CALNAME:Home Counties Division
X-ORIGINAL-URL:https://homecountiesdivisioncamc.co.uk
X-WR-CALDESC:Events for Home Counties Division
REFRESH-INTERVAL;VALUE=DURATION:PT1H
X-Robots-Tag:noindex
X-PUBLISHED-TTL:PT1H
BEGIN:VTIMEZONE
TZID:Europe/London
BEGIN:DAYLIGHT
TZOFFSETFROM:+0000
TZOFFSETTO:+0100
TZNAME:BST
DTSTART:20250330T010000
END:DAYLIGHT
BEGIN:STANDARD
TZOFFSETFROM:+0100
TZOFFSETTO:+0000
TZNAME:GMT
DTSTART:20251026T010000
END:STANDARD
BEGIN:DAYLIGHT
TZOFFSETFROM:+0000
TZOFFSETTO:+0100
TZNAME:BST
DTSTART:20260329T010000
END:DAYLIGHT
BEGIN:STANDARD
TZOFFSETFROM:+0100
TZOFFSETTO:+0000
TZNAME:GMT
DTSTART:20261025T010000
END:STANDARD
BEGIN:DAYLIGHT
TZOFFSETFROM:+0000
TZOFFSETTO:+0100
TZNAME:BST
DTSTART:20270328T010000
END:DAYLIGHT
BEGIN:STANDARD
TZOFFSETFROM:+0100
TZOFFSETTO:+0000
TZNAME:GMT
DTSTART:20271031T010000
END:STANDARD
END:VTIMEZONE
BEGIN:VEVENT
DTSTART;VALUE=DATE:20261002
DTEND;VALUE=DATE:20261005
DTSTAMP:20260421T203439
CREATED:20250709T163341Z
LAST-MODIFIED:20260213T093949Z
UID:6768-1790899200-1791158399@homecountiesdivisioncamc.co.uk
SUMMARY:Berkshire Centre AGM
DESCRIPTION:Colleton Primary School\, Twyford\, RG10 0AX \nLocality: Twyford\, Maidenhead\, Reading and Bracknell in the local area. Henley is not too far away either. Twyford is a small village which has quite a few different restaurants\, an excellent chip-shop\, antique shops and a Waitrose supermarket amongst other smaller businesses. Squires Garden Centre is nearby. PLEASE DO NOT BRING ANY NUTS OR NUT-INFUSED FOOD INTO THE SCHOOL; some children can have severe allergies. \nWhat is On? The Centre’s AGM will take place at 2:30pm on Saturday 3rd October. The Notice and Agenda will be published to members in advance of the meeting.\nNominations for Committee and Junior Committee should be submitted to the Centre Secretary no later than 14 days beforehand (i.e. Saturday 19th September).
URL:https://homecountiesdivisioncamc.co.uk/event/6692/
LOCATION:Colleton Primary School\, Twyford\, RG10 0AX\, United Kingdom
CATEGORIES:Weekend
ATTACH;FMTTYPE=image/webp:https://homecountiesdivisioncamc.co.uk/wp-content/uploads/2025/07/berks-agm.webp
END:VEVENT
BEGIN:VEVENT
DTSTART;VALUE=DATE:20261002
DTEND;VALUE=DATE:20261005
DTSTAMP:20260421T203439
CREATED:20250709T195222Z
LAST-MODIFIED:20260211T092755Z
UID:6775-1790899200-1791158399@homecountiesdivisioncamc.co.uk
SUMMARY:Illuminated Van Competition
DESCRIPTION:The Birches\, 43 Rookery Road\, Wyboston\, Beds\, MK44 3AX \nDecorate your van so that it is illuminated for all to enjoy on Saturday evening\, theme to be advised\, and see if you can win the competition. \nLimited Electric Hook-up available at extra cost.
URL:https://homecountiesdivisioncamc.co.uk/event/illuminated-van-competition/
LOCATION:The Birches\, Wyboston\, MK44 3AX\, United Kingdom
CATEGORIES:Weekend
ATTACH;FMTTYPE=image/webp:https://homecountiesdivisioncamc.co.uk/wp-content/uploads/2025/07/the-birches-e1753304440997.webp
END:VEVENT
BEGIN:VEVENT
DTSTART;VALUE=DATE:20261002
DTEND;VALUE=DATE:20261005
DTSTAMP:20260421T203439
CREATED:20250710T160749Z
LAST-MODIFIED:20260212T185526Z
UID:6851-1790899200-1791158399@homecountiesdivisioncamc.co.uk
SUMMARY:Hertfordshire Centre AGM
DESCRIPTION:Whaddon Village Hall\, Royston\, SG8 5RY \nSaturday afternoon 3pm\, Centre’s AGM\, please remember your membership cards or app.\nOn site hall for both evenings\, communal buffet Saturday night.\nWatch the facebook page and the Herts website for updates
URL:https://homecountiesdivisioncamc.co.uk/event/hertfordshire-centre-agm/
LOCATION:Whaddon Village Hall\, Royston\, SG8 5RY\, United Kingdom
CATEGORIES:Weekend
ATTACH;FMTTYPE=image/webp:https://homecountiesdivisioncamc.co.uk/wp-content/uploads/2025/07/Whwddon-Village-Hall-e1753303898507.webp
END:VEVENT
BEGIN:VEVENT
DTSTART;VALUE=DATE:20261009
DTEND;VALUE=DATE:20261012
DTSTAMP:20260421T203439
CREATED:20260211T093740Z
LAST-MODIFIED:20260211T093740Z
UID:8137-1791504000-1791763199@homecountiesdivisioncamc.co.uk
SUMMARY:Grafham Water
DESCRIPTION:GrafWater Campsite\, Chuham rch Road\, Grafham\, Huntingdon\, Cambs. PE28 0BB \nA quiet weekend… \nWalking\, cycling\, fishing\, Nature Reserves and visitor centre.
URL:https://homecountiesdivisioncamc.co.uk/event/grafham-water/
LOCATION:Grafham Water Campsite\, Huntingdon\, PE28 0BB\, United Kingdom
CATEGORIES:Weekend
ATTACH;FMTTYPE=image/webp:https://homecountiesdivisioncamc.co.uk/wp-content/uploads/2026/02/grafham-water.webp
END:VEVENT
BEGIN:VEVENT
DTSTART;VALUE=DATE:20261023
DTEND;VALUE=DATE:20261026
DTSTAMP:20260421T203439
CREATED:20260211T094951Z
LAST-MODIFIED:20260211T094951Z
UID:8145-1792713600-1792972799@homecountiesdivisioncamc.co.uk
SUMMARY:Cockayne Hatley
DESCRIPTION:The Good Life Carvan Park\, 5 Hatley Road\, Potton\, Beds. SG19 2DX \nCome and have a relaxing weekend at this lovely site.
URL:https://homecountiesdivisioncamc.co.uk/event/cockayne-hatley/
LOCATION:The Good Life Caravan Park\, Potton\, SG19 2DX\, United Kingdom
CATEGORIES:Weekend
ATTACH;FMTTYPE=image/webp:https://homecountiesdivisioncamc.co.uk/wp-content/uploads/2025/07/the-good-life-caravan-park.webp
END:VEVENT
BEGIN:VEVENT
DTSTART;VALUE=DATE:20261030
DTEND;VALUE=DATE:20261102
DTSTAMP:20260421T203439
CREATED:20250709T131614Z
LAST-MODIFIED:20260211T223947Z
UID:6766-1793318400-1793577599@homecountiesdivisioncamc.co.uk
SUMMARY:Halloween & AGM
DESCRIPTION:Princes Risborough School\, HP27 0DR \nOnce again\, we are combining our Halloween Party with our AGM \nFull details will follow as soon as possible
URL:https://homecountiesdivisioncamc.co.uk/event/halloween-agm/
LOCATION:Princes Risborough School\, HP27 0DR\, United Kingdom
CATEGORIES:Weekend
ATTACH;FMTTYPE=image/webp:https://homecountiesdivisioncamc.co.uk/wp-content/uploads/2025/07/halloween-e1753302718830.webp
END:VEVENT
BEGIN:VEVENT
DTSTART;VALUE=DATE:20261030
DTEND;VALUE=DATE:20261102
DTSTAMP:20260421T203439
CREATED:20250709T204302Z
LAST-MODIFIED:20260211T095212Z
UID:7299-1793318400-1793577599@homecountiesdivisioncamc.co.uk
SUMMARY:Halloween Rally
DESCRIPTION:The Cock\, 23 High Street\, Broom\, Beds\,SG18 9NA \nMake your scary pumpkins and dress up for this devilish evening. Enjoy the Fun and Games that are going to be arranged. Have your treats at the ready\, for the little ghosties and witches are coming… It’s Trick or Treat time. \nWill your fancy dress scare the Ghoulies & Ghosties. \nIT’S SPOOKY TIME FOR ALL… \nMeals available in the pub over the weekend.
URL:https://homecountiesdivisioncamc.co.uk/event/halloween-rally/
LOCATION:The Cock\, Broom\, SG18 9NA\, United Kingdom
CATEGORIES:Weekend
ATTACH;FMTTYPE=image/webp:https://homecountiesdivisioncamc.co.uk/wp-content/uploads/2025/07/halloween-1-e1753304310518.webp
END:VEVENT
BEGIN:VEVENT
DTSTART;VALUE=DATE:20261030
DTEND;VALUE=DATE:20261102
DTSTAMP:20260421T203439
CREATED:20260212T190427Z
LAST-MODIFIED:20260212T190427Z
UID:8308-1793318400-1793577599@homecountiesdivisioncamc.co.uk
SUMMARY:Spooky Halloween
DESCRIPTION:St Leonards Parish Hall\, Jenkins Ln\, St Leonards\, Tring HP23 6NW \nA rally not for the faint hearted\, those of a nervous disposition are warned!!\nFriday evening get together for pumpkin carving and pumpkin punch.\nSaturday evening in the spooky hall on site.\nPlease dress in your best Halloween costume followed by a disco
URL:https://homecountiesdivisioncamc.co.uk/event/spooky-halloween/
LOCATION:St Leonards Parish Hall\, Tring\, HP23 6NW\, United Kingdom
CATEGORIES:Weekend
ATTACH;FMTTYPE=image/webp:https://homecountiesdivisioncamc.co.uk/wp-content/uploads/2026/02/halloween-herts.webp
END:VEVENT
END:VCALENDAR