BEGIN:VCALENDAR
VERSION:2.0
PRODID:-//Home Counties Division - ECPv6.15.20//NONSGML v1.0//EN
CALSCALE:GREGORIAN
METHOD:PUBLISH
X-WR-CALNAME:Home Counties Division
X-ORIGINAL-URL:https://homecountiesdivisioncamc.co.uk
X-WR-CALDESC:Events for Home Counties Division
REFRESH-INTERVAL;VALUE=DURATION:PT1H
X-Robots-Tag:noindex
X-PUBLISHED-TTL:PT1H
BEGIN:VTIMEZONE
TZID:Europe/London
BEGIN:DAYLIGHT
TZOFFSETFROM:+0000
TZOFFSETTO:+0100
TZNAME:BST
DTSTART:20250330T010000
END:DAYLIGHT
BEGIN:STANDARD
TZOFFSETFROM:+0100
TZOFFSETTO:+0000
TZNAME:GMT
DTSTART:20251026T010000
END:STANDARD
BEGIN:DAYLIGHT
TZOFFSETFROM:+0000
TZOFFSETTO:+0100
TZNAME:BST
DTSTART:20260329T010000
END:DAYLIGHT
BEGIN:STANDARD
TZOFFSETFROM:+0100
TZOFFSETTO:+0000
TZNAME:GMT
DTSTART:20261025T010000
END:STANDARD
BEGIN:DAYLIGHT
TZOFFSETFROM:+0000
TZOFFSETTO:+0100
TZNAME:BST
DTSTART:20270328T010000
END:DAYLIGHT
BEGIN:STANDARD
TZOFFSETFROM:+0100
TZOFFSETTO:+0000
TZNAME:GMT
DTSTART:20271031T010000
END:STANDARD
END:VTIMEZONE
BEGIN:VEVENT
DTSTART;VALUE=DATE:20260807
DTEND;VALUE=DATE:20260810
DTSTAMP:20260421T175430
CREATED:20260211T090107Z
LAST-MODIFIED:20260211T090107Z
UID:8119-1786060800-1786319999@homecountiesdivisioncamc.co.uk
SUMMARY:Stoke Bruerne
DESCRIPTION:Home Farm\, The Greenway\, Stoke Bruerne\, Northants. NN12 7SG \nWaterway museum\, boat trips available\, canal walks\, & pub nearby.
URL:https://homecountiesdivisioncamc.co.uk/event/stoke-bruerne/
LOCATION:Home Farm Stoke Bruerne\, Stoke Bruerne\, NN12 7SG\, United Kingdom
CATEGORIES:Weekend
ATTACH;FMTTYPE=image/webp:https://homecountiesdivisioncamc.co.uk/wp-content/uploads/2026/02/home-farm-cl.webp
END:VEVENT
BEGIN:VEVENT
DTSTART;VALUE=DATE:20260813
DTEND;VALUE=DATE:20260818
DTSTAMP:20260421T175430
CREATED:20260212T155804Z
LAST-MODIFIED:20260212T155804Z
UID:8290-1786579200-1787011199@homecountiesdivisioncamc.co.uk
SUMMARY:Woodland Waters - Grantham
DESCRIPTION:Woodland Waters Ltd\, Willoughby Rd\, Ancaster\, Grantham NG32 3RT \nWelcome to this commercial site.\nIt has much to offer including fishing lakes\, its own bar and restaurant.\nTake time to visit the historic market town of Grantham.\nPossible evenings in the shelters \n 
URL:https://homecountiesdivisioncamc.co.uk/event/woodland-waters-grantham/
LOCATION:Woodland Waters Ltd\, Grantham\, NG32 3RT\, United Kingdom
CATEGORIES:Weekend,Weekend plus
ATTACH;FMTTYPE=image/webp:https://homecountiesdivisioncamc.co.uk/wp-content/uploads/2026/02/woodland-water.webp
END:VEVENT
BEGIN:VEVENT
DTSTART;VALUE=DATE:20260828
DTEND;VALUE=DATE:20260901
DTSTAMP:20260421T175430
CREATED:20250709T180113Z
LAST-MODIFIED:20260211T090358Z
UID:6722-1787875200-1788220799@homecountiesdivisioncamc.co.uk
SUMMARY:August Bank Holiday\, Wyboston
DESCRIPTION:The Birches\, 43 Rookery Road\, Wyboston\, Beds. MK44 3AX \nCome and join us for a relaxing weekend.\nVisit the local town of St Neots.\nWhy not give the local chilli farm a visit at Chawston Edible Orniments. \nLimited Electric Hook-up available at extra cost.
URL:https://homecountiesdivisioncamc.co.uk/event/august-bank-holiday-wyboston/
LOCATION:The Birches\, Wyboston\, MK44 3AX\, United Kingdom
CATEGORIES:Holiday,Weekend,Weekend plus
ATTACH;FMTTYPE=image/webp:https://homecountiesdivisioncamc.co.uk/wp-content/uploads/2025/07/the-birches-e1753304440997.webp
END:VEVENT
END:VCALENDAR