BEGIN:VCALENDAR
VERSION:2.0
PRODID:-//Home Counties Division - ECPv6.15.20//NONSGML v1.0//EN
CALSCALE:GREGORIAN
METHOD:PUBLISH
X-ORIGINAL-URL:https://homecountiesdivisioncamc.co.uk
X-WR-CALDESC:Events for Home Counties Division
REFRESH-INTERVAL;VALUE=DURATION:PT1H
X-Robots-Tag:noindex
X-PUBLISHED-TTL:PT1H
BEGIN:VTIMEZONE
TZID:Europe/London
BEGIN:DAYLIGHT
TZOFFSETFROM:+0000
TZOFFSETTO:+0100
TZNAME:BST
DTSTART:20250330T010000
END:DAYLIGHT
BEGIN:STANDARD
TZOFFSETFROM:+0100
TZOFFSETTO:+0000
TZNAME:GMT
DTSTART:20251026T010000
END:STANDARD
BEGIN:DAYLIGHT
TZOFFSETFROM:+0000
TZOFFSETTO:+0100
TZNAME:BST
DTSTART:20260329T010000
END:DAYLIGHT
BEGIN:STANDARD
TZOFFSETFROM:+0100
TZOFFSETTO:+0000
TZNAME:GMT
DTSTART:20261025T010000
END:STANDARD
BEGIN:DAYLIGHT
TZOFFSETFROM:+0000
TZOFFSETTO:+0100
TZNAME:BST
DTSTART:20270328T010000
END:DAYLIGHT
BEGIN:STANDARD
TZOFFSETFROM:+0100
TZOFFSETTO:+0000
TZNAME:GMT
DTSTART:20271031T010000
END:STANDARD
END:VTIMEZONE
BEGIN:VEVENT
DTSTART;VALUE=DATE:20260513
DTEND;VALUE=DATE:20260518
DTSTAMP:20260421T133819
CREATED:20260210T165146Z
LAST-MODIFIED:20260210T165146Z
UID:8069-1778630400-1779062399@homecountiesdivisioncamc.co.uk
SUMMARY:Mitchelmore Fishing - Centre Competition
DESCRIPTION:Lawn Farm Fishery\, Elsworth\, Cambourne\, Cambs. CB23 4JX \nWe will be holding the Mitchelmore Trophy fishing competition on the Saturday. \nPlease indicate (on your rally slip)\, if you intend to enter the fishing competition.
URL:https://homecountiesdivisioncamc.co.uk/event/mitchelmore-fishing-centre-competition/
LOCATION:Lawn Farm Fishery\, Cambourne\, CB23 4JX\, United Kingdom
CATEGORIES:Weekend,Weekend plus
ATTACH;FMTTYPE=image/webp:https://homecountiesdivisioncamc.co.uk/wp-content/uploads/2026/02/lawn-farm-fishery.webp
END:VEVENT
BEGIN:VEVENT
DTSTART;VALUE=DATE:20260515
DTEND;VALUE=DATE:20260518
DTSTAMP:20260421T133819
CREATED:20260212T135628Z
LAST-MODIFIED:20260212T135628Z
UID:8273-1778803200-1779062399@homecountiesdivisioncamc.co.uk
SUMMARY:Fun at The Birches
DESCRIPTION:The Birches\, 43 Rookery Rd\, Wyboston\, St. Neots MK44 3AX \nJojn us for a quiet (ish) weekend\,\nCentre shelters will be up for evening socials including some games.\nWho’s up for a walk on Saturday.\nHotel Chocolate outlet and café not far away.
URL:https://homecountiesdivisioncamc.co.uk/event/fun-at-the-birches/
LOCATION:The Birches\, Wyboston\, MK44 3AX\, United Kingdom
CATEGORIES:Weekend
ATTACH;FMTTYPE=image/webp:https://homecountiesdivisioncamc.co.uk/wp-content/uploads/2026/02/the-birches-herts.webp
END:VEVENT
BEGIN:VEVENT
DTSTART;VALUE=DATE:20260529
DTEND;VALUE=DATE:20260601
DTSTAMP:20260421T133819
CREATED:20260210T171820Z
LAST-MODIFIED:20260210T171820Z
UID:8079-1780012800-1780271999@homecountiesdivisioncamc.co.uk
SUMMARY:Calvers\, Clapham
DESCRIPTION:Calvers Caravan Storage\, Woodlands Park\, Bedford Road\, Clapham. MK41 6EJ \nHave a relaxing time at this venue. Visit the town of Bedford with is Victorian Embankment or visit the local speciality brewery “Brewpoint” and have a meal while sampling the delights of the brewery.
URL:https://homecountiesdivisioncamc.co.uk/event/calvers-clapham/
LOCATION:Calvers Caravan Storage\, Clapham\, MK41 6EJ\, Reunion
CATEGORIES:Weekend
ATTACH;FMTTYPE=image/webp:https://homecountiesdivisioncamc.co.uk/wp-content/uploads/2026/02/calvers-caravan-storage.webp
END:VEVENT
BEGIN:VEVENT
DTSTART;VALUE=DATE:20260529
DTEND;VALUE=DATE:20260601
DTSTAMP:20260421T133819
CREATED:20260212T215429Z
LAST-MODIFIED:20260212T215429Z
UID:8352-1780012800-1780271999@homecountiesdivisioncamc.co.uk
SUMMARY:A Relaxed Weekend of Fun!
DESCRIPTION:Reading Abbey Rugby Football Club\, B481 Peppard Rd\, Reading RG4 8XA \nWhat is On? Unwind and enjoy a laid-back weekend with great company and classic outdoor fun – weather permitting\, of course!!!\nAfternoon Activities: Think lawn darts\, boules and other garden games to keep things lively and light.\nEvening Plans: We’ll fire up a communal BBQ and cap off the night with a fun quiz – prizes and bragging rights up for grabs!\nWhether you’re in it for the games\, the grill\, or just good vibes\, there’s something for everyone. Bring your favourite drink\, a good sense of humour\, and let’s make it a weekend to remember!
URL:https://homecountiesdivisioncamc.co.uk/event/a-relaxed-weekend-of-fun/
LOCATION:Reading Abbey Rugby Football Club\, Reading\, RG4 8XA\, United Kingdom
CATEGORIES:Weekend
ATTACH;FMTTYPE=image/webp:https://homecountiesdivisioncamc.co.uk/wp-content/uploads/2026/02/abbey-rugby-club.webp
END:VEVENT
END:VCALENDAR