BEGIN:VCALENDAR
VERSION:2.0
PRODID:-//Home Counties Division - ECPv6.15.20//NONSGML v1.0//EN
CALSCALE:GREGORIAN
METHOD:PUBLISH
X-ORIGINAL-URL:https://homecountiesdivisioncamc.co.uk
X-WR-CALDESC:Events for Home Counties Division
REFRESH-INTERVAL;VALUE=DURATION:PT1H
X-Robots-Tag:noindex
X-PUBLISHED-TTL:PT1H
BEGIN:VTIMEZONE
TZID:Europe/London
BEGIN:DAYLIGHT
TZOFFSETFROM:+0000
TZOFFSETTO:+0100
TZNAME:BST
DTSTART:20250330T010000
END:DAYLIGHT
BEGIN:STANDARD
TZOFFSETFROM:+0100
TZOFFSETTO:+0000
TZNAME:GMT
DTSTART:20251026T010000
END:STANDARD
BEGIN:DAYLIGHT
TZOFFSETFROM:+0000
TZOFFSETTO:+0100
TZNAME:BST
DTSTART:20260329T010000
END:DAYLIGHT
BEGIN:STANDARD
TZOFFSETFROM:+0100
TZOFFSETTO:+0000
TZNAME:GMT
DTSTART:20261025T010000
END:STANDARD
BEGIN:DAYLIGHT
TZOFFSETFROM:+0000
TZOFFSETTO:+0100
TZNAME:BST
DTSTART:20270328T010000
END:DAYLIGHT
BEGIN:STANDARD
TZOFFSETFROM:+0100
TZOFFSETTO:+0000
TZNAME:GMT
DTSTART:20271031T010000
END:STANDARD
END:VTIMEZONE
BEGIN:VEVENT
DTSTART;VALUE=DATE:20260430
DTEND;VALUE=DATE:20260505
DTSTAMP:20260419T141848
CREATED:20260210T163252Z
LAST-MODIFIED:20260210T163252Z
UID:8065-1777507200-1777939199@homecountiesdivisioncamc.co.uk
SUMMARY:May Day - Home Rally
DESCRIPTION:The Three Compasses\, Upper Dean\, Huntingdonshire. PE28 0NE \nCome and join us behind this 17th Century country pub\, that serves fine ales and fantastic food.\nIf you wish to eat in there\, you will need to book. \nJust a short drive away\, is the East Midlands Steam & Country Fayre\, at Lancaster Farm\, Chelveston.\nIf you want to do some retail therapy during your stay\, you have The Lakes retail park at Rushden\, or why not visit the towns of Rushden or Wellingborough.
URL:https://homecountiesdivisioncamc.co.uk/event/may-day-home-rally/
LOCATION:The Three Compasses\, Upper Dean\, PE28 0NE\, United Kingdom
CATEGORIES:Holiday,Weekend plus
ATTACH;FMTTYPE=image/webp:https://homecountiesdivisioncamc.co.uk/wp-content/uploads/2026/02/three-compasses.webp
END:VEVENT
BEGIN:VEVENT
DTSTART;VALUE=DATE:20260430
DTEND;VALUE=DATE:20260506
DTSTAMP:20260419T141848
CREATED:20260210T161814Z
LAST-MODIFIED:20260210T161925Z
UID:8061-1777507200-1778025599@homecountiesdivisioncamc.co.uk
SUMMARY:May Day Away\, Sedgeford Village Hall
DESCRIPTION:Sedgeford Village Hall\, Jarvie Close\, Sedgeford\, Norfolk. PE36 5NG \nInvite From Mid Anglia \nCome and enjoy a long weekend near the coast. \nWhy not visit sunny Hunstanton or Heacham’s Lavender Centre.
URL:https://homecountiesdivisioncamc.co.uk/event/may-day-away-sedgeford-village-hall/
LOCATION:Sedgeford Village Hall\, Sedgeford\, PE36 5NG\, United Kingdom
CATEGORIES:Holiday,Weekend plus
ATTACH;FMTTYPE=image/webp:https://homecountiesdivisioncamc.co.uk/wp-content/uploads/2026/02/sedgeford-village-hall.webp
END:VEVENT
BEGIN:VEVENT
DTSTART;VALUE=DATE:20260430
DTEND;VALUE=DATE:20260506
DTSTAMP:20260419T141848
CREATED:20260212T134537Z
LAST-MODIFIED:20260212T134537Z
UID:8269-1777507200-1778025599@homecountiesdivisioncamc.co.uk
SUMMARY:Holbeach - Lincoln
DESCRIPTION:Rose & Crown\, 1 Low Rd\, Holbeach Hurn\, Spalding PE12 8JN \nJoin us at this lovely new venue.\nThe site is part of a traditional village pub and restaurant\, the Rose and Crown which has a great menu\, including a Sunday carvery.\nHolbeach is a beautiful market town\, close to the scenic town of Spalding. Boston and King’s Lynn is not far away either.\nThis great site has access to electric hook-up and showers\, not to mention a free heated pool.\nThere will be opportunities for meeting up with fellow ralliers.\nPlease keep an eye on the Facebook site and the Affairs of the Herts for more
URL:https://homecountiesdivisioncamc.co.uk/event/holbeach-lincoln/
LOCATION:Rose & Crown\, Spalding\, PE12 8JN\, United Kingdom
CATEGORIES:Holiday,Weekend plus
ATTACH;FMTTYPE=image/webp:https://homecountiesdivisioncamc.co.uk/wp-content/uploads/2026/02/rose-and-crown.webp
END:VEVENT
END:VCALENDAR