BEGIN:VCALENDAR
VERSION:2.0
PRODID:-//Home Counties Division - ECPv6.15.20//NONSGML v1.0//EN
CALSCALE:GREGORIAN
METHOD:PUBLISH
X-WR-CALNAME:Home Counties Division
X-ORIGINAL-URL:https://homecountiesdivisioncamc.co.uk
X-WR-CALDESC:Events for Home Counties Division
REFRESH-INTERVAL;VALUE=DURATION:PT1H
X-Robots-Tag:noindex
X-PUBLISHED-TTL:PT1H
BEGIN:VTIMEZONE
TZID:Europe/London
BEGIN:DAYLIGHT
TZOFFSETFROM:+0000
TZOFFSETTO:+0100
TZNAME:BST
DTSTART:20250330T010000
END:DAYLIGHT
BEGIN:STANDARD
TZOFFSETFROM:+0100
TZOFFSETTO:+0000
TZNAME:GMT
DTSTART:20251026T010000
END:STANDARD
BEGIN:DAYLIGHT
TZOFFSETFROM:+0000
TZOFFSETTO:+0100
TZNAME:BST
DTSTART:20260329T010000
END:DAYLIGHT
BEGIN:STANDARD
TZOFFSETFROM:+0100
TZOFFSETTO:+0000
TZNAME:GMT
DTSTART:20261025T010000
END:STANDARD
BEGIN:DAYLIGHT
TZOFFSETFROM:+0000
TZOFFSETTO:+0100
TZNAME:BST
DTSTART:20270328T010000
END:DAYLIGHT
BEGIN:STANDARD
TZOFFSETFROM:+0100
TZOFFSETTO:+0000
TZNAME:GMT
DTSTART:20271031T010000
END:STANDARD
END:VTIMEZONE
BEGIN:VEVENT
DTSTART;VALUE=DATE:20260727
DTEND;VALUE=DATE:20260804
DTSTAMP:20260421T121845
CREATED:20260211T164113Z
LAST-MODIFIED:20260211T164113Z
UID:8179-1785110400-1785801599@homecountiesdivisioncamc.co.uk
SUMMARY:Holiday Rally Lymington
DESCRIPTION:Bamptons farm Caravan Site\, Lymington SO41 5SH \nWithin walking distance of Lymington town centre which boasts attractions like Saturday Street Market\, boat trips.\nIsle of White ferry and many pubs and restaurants.\nClose to Milford on Sea\, Lyndhurst\, Beaulieu Motor Museum\, Exbury Gardens and The New Forest.\nSocials will be arranged.
URL:https://homecountiesdivisioncamc.co.uk/event/holiday-rally-lymington/
LOCATION:Bamptons Farm Caravan Site\, Lymington\, SO41 5SH\, United Kingdom
CATEGORIES:Holiday
ATTACH;FMTTYPE=image/webp:https://homecountiesdivisioncamc.co.uk/wp-content/uploads/2026/02/lymington.webp
END:VEVENT
END:VCALENDAR