BEGIN:VCALENDAR
VERSION:2.0
PRODID:-//Home Counties Division - ECPv6.15.20//NONSGML v1.0//EN
CALSCALE:GREGORIAN
METHOD:PUBLISH
X-WR-CALNAME:Home Counties Division
X-ORIGINAL-URL:https://homecountiesdivisioncamc.co.uk
X-WR-CALDESC:Events for Home Counties Division
REFRESH-INTERVAL;VALUE=DURATION:PT1H
X-Robots-Tag:noindex
X-PUBLISHED-TTL:PT1H
BEGIN:VTIMEZONE
TZID:Europe/London
BEGIN:DAYLIGHT
TZOFFSETFROM:+0000
TZOFFSETTO:+0100
TZNAME:BST
DTSTART:20250330T010000
END:DAYLIGHT
BEGIN:STANDARD
TZOFFSETFROM:+0100
TZOFFSETTO:+0000
TZNAME:GMT
DTSTART:20251026T010000
END:STANDARD
BEGIN:DAYLIGHT
TZOFFSETFROM:+0000
TZOFFSETTO:+0100
TZNAME:BST
DTSTART:20260329T010000
END:DAYLIGHT
BEGIN:STANDARD
TZOFFSETFROM:+0100
TZOFFSETTO:+0000
TZNAME:GMT
DTSTART:20261025T010000
END:STANDARD
BEGIN:DAYLIGHT
TZOFFSETFROM:+0000
TZOFFSETTO:+0100
TZNAME:BST
DTSTART:20270328T010000
END:DAYLIGHT
BEGIN:STANDARD
TZOFFSETFROM:+0100
TZOFFSETTO:+0000
TZNAME:GMT
DTSTART:20271031T010000
END:STANDARD
END:VTIMEZONE
BEGIN:VEVENT
DTSTART;VALUE=DATE:20260416
DTEND;VALUE=DATE:20260420
DTSTAMP:20260419T152650
CREATED:20260210T223134Z
LAST-MODIFIED:20260210T223134Z
UID:8107-1776297600-1776643199@homecountiesdivisioncamc.co.uk
SUMMARY:Shennington
DESCRIPTION:Eastwood Farm\, Shenington Road\, Banbury\, Oxfordshire   OX15 6HQ \nFree and Easy weekend.  With onsite facilities of a Farm Shop selling Eastwood Farm Produce and The Ember Artisan Craft Taproom & BBQ serving food from 15:00 Friday\, 12:00 Saturday & 12:00 Sunday. (Sunday is roast dinners only).  Late finish on rally fields is to allow people time to enjoy a roast dinner should you wish to.   Booking Sunday Lunch – highly recommended. \nEmber Tap Room is providing a 10% discount card which will be issued to each unit attending the rally\, which can be retained to be used at any time during and post the rally. \nLevelling Blocks recommended.
URL:https://homecountiesdivisioncamc.co.uk/event/shennington/
LOCATION:Eastwood Farm\, Banbury\, OX15 6HQ\, United Kingdom
CATEGORIES:Weekend,Weekend plus
ATTACH;FMTTYPE=image/webp:https://homecountiesdivisioncamc.co.uk/wp-content/uploads/2026/02/eastwood-farm.webp
END:VEVENT
BEGIN:VEVENT
DTSTART;VALUE=DATE:20260417
DTEND;VALUE=DATE:20260420
DTSTAMP:20260419T152650
CREATED:20260210T160052Z
LAST-MODIFIED:20260210T160052Z
UID:8055-1776384000-1776643199@homecountiesdivisioncamc.co.uk
SUMMARY:Events Weekend\, Centre Competition
DESCRIPTION:Home Farm\, Cople Road\, Cardington\, Beds. MK44 3SN \nTry your hand in the centre competitions of; Beer\, Wine & Flavoured Spirits; Chutney; Photography and Cake baking in your van (see rules). \nDisplay your arts\, crafts & hobbies for all to view. \nSaturday evening join us in the village hall for a fun quiz.
URL:https://homecountiesdivisioncamc.co.uk/event/events-weekend-centre-competition/
LOCATION:Home Farm\, Cardington\, MK44 3SN\, United Kingdom
CATEGORIES:Weekend
ATTACH;FMTTYPE=image/webp:https://homecountiesdivisioncamc.co.uk/wp-content/uploads/2025/07/home-farm-Cardington-e1753304282940.webp
END:VEVENT
BEGIN:VEVENT
DTSTART;VALUE=DATE:20260417
DTEND;VALUE=DATE:20260420
DTSTAMP:20260419T152650
CREATED:20260212T133446Z
LAST-MODIFIED:20260212T133446Z
UID:8265-1776384000-1776643199@homecountiesdivisioncamc.co.uk
SUMMARY:Aston - Stevenage
DESCRIPTION:Aston Village Hall\, 9 New Park Ln\, Aston\, Stevenage SG2 7ED \nFriday we will be having a Natter and Chatter.\nStevenage for local retail therapy\nProfessional entertainment on Saturday evening with Lorraine Hall\, who was on The Voice.\nSpecial Pre-pay booking form.
URL:https://homecountiesdivisioncamc.co.uk/event/aston-stevenage/
LOCATION:Aston Village Hall\, Stevenage\, SG2 7ED\, United Kingdom
ATTACH;FMTTYPE=image/webp:https://homecountiesdivisioncamc.co.uk/wp-content/uploads/2026/02/astin-village-hall.webp
END:VEVENT
BEGIN:VEVENT
DTSTART;VALUE=DATE:20260417
DTEND;VALUE=DATE:20260420
DTSTAMP:20260419T152650
CREATED:20260212T204914Z
LAST-MODIFIED:20260212T204914Z
UID:8332-1776384000-1776643199@homecountiesdivisioncamc.co.uk
SUMMARY:Wallingford
DESCRIPTION:Bridge Villa Camping and Caravan Park\, The St\, Crowmarsh Gifford\, Wallingford OX10 8HB \nWhat is On? Join Us for a Traditional Walk & Treasure Hunt in Wallingford!\nStep back in time and explore the historic town of Wallingford with our classic walk and treasure hunt!\nFollow the clues\, discover hidden gems and enjoy a fun-filled day with fellow enthusiasts.\nAfter the day’s adventures\, you’re warmly invited to join the Rally Officers for a relaxed evening meal at The Boat House (part of the Greene King chain).\nWe’ll be reserving tables for those who wish to dine together – please indicate your interest when booking.\nOpen to all – bring friends\, family\, and a sense of adventure! Reserve your spot now!
URL:https://homecountiesdivisioncamc.co.uk/event/wallingford/
LOCATION:Bridge Villa Camping and Caravan Park\, Wallingford\, OX10 8HB\, United Kingdom
CATEGORIES:Weekend
ATTACH;FMTTYPE=image/webp:https://homecountiesdivisioncamc.co.uk/wp-content/uploads/2026/02/Bridge-Villa-Caravan-Park.webp
END:VEVENT
END:VCALENDAR